BEGIN:VCALENDAR
VERSION:2.0
PRODID:-//National Handwriting Association - ECPv6.15.16//NONSGML v1.0//EN
CALSCALE:GREGORIAN
METHOD:PUBLISH
X-ORIGINAL-URL:https://nha-handwriting.org.uk
X-WR-CALDESC:Events for National Handwriting Association
REFRESH-INTERVAL;VALUE=DURATION:PT1H
X-Robots-Tag:noindex
X-PUBLISHED-TTL:PT1H
BEGIN:VTIMEZONE
TZID:Europe/London
BEGIN:DAYLIGHT
TZOFFSETFROM:+0000
TZOFFSETTO:+0100
TZNAME:BST
DTSTART:20230326T010000
END:DAYLIGHT
BEGIN:STANDARD
TZOFFSETFROM:+0100
TZOFFSETTO:+0000
TZNAME:GMT
DTSTART:20231029T010000
END:STANDARD
BEGIN:DAYLIGHT
TZOFFSETFROM:+0000
TZOFFSETTO:+0100
TZNAME:BST
DTSTART:20240331T010000
END:DAYLIGHT
BEGIN:STANDARD
TZOFFSETFROM:+0100
TZOFFSETTO:+0000
TZNAME:GMT
DTSTART:20241027T010000
END:STANDARD
BEGIN:DAYLIGHT
TZOFFSETFROM:+0000
TZOFFSETTO:+0100
TZNAME:BST
DTSTART:20250330T010000
END:DAYLIGHT
BEGIN:STANDARD
TZOFFSETFROM:+0100
TZOFFSETTO:+0000
TZNAME:GMT
DTSTART:20251026T010000
END:STANDARD
END:VTIMEZONE
BEGIN:VEVENT
DTSTART;TZID=Europe/London:20241029T190000
DTEND;TZID=Europe/London:20241029T203000
DTSTAMP:20260425T125214
CREATED:20241023T101359Z
LAST-MODIFIED:20241026T181015Z
UID:10000080-1730228400-1730233800@nha-handwriting.org.uk
SUMMARY:National Handwriting Association AGM
DESCRIPTION:You are invited to our AGM to be held on Zoom\, with the following presentations: \n\n\n\nDoing the ‘write thing’: handwriting and typing support in secondary schools in England – Emma Sumner \n\n\n\nNeural correlates of linguistic and motor processes in handwriting – Olivia Afonso.  \n\n\n\nIt is free to members and £10 for non-members. When you sign up you will be sent a Zoom link.  \n\n\n\nMembers: please log in to obtain your free ticket at checkout.
URL:https://nha-handwriting.org.uk/event/national-handwriting-association-agm-2/
LOCATION:https://nha-handwriting.org.uk/event/national-handwriting-association-agm-2/
END:VEVENT
END:VCALENDAR